BEGIN:VCALENDAR
VERSION:2.0
PRODID:-//ChamberMaster//Event Calendar 2.0//EN
METHOD:PUBLISH
X-PUBLISHED-TTL:P3D
REFRESH-INTERVAL:P3D
CALSCALE:GREGORIAN
BEGIN:VEVENT
DTSTART:20260710T233000Z
DTEND:20260711T020000Z
X-MICROSOFT-CDO-ALLDAYEVENT:FALSE
SUMMARY:Yacht Rock\, the Musical
DESCRIPTION:A party cleverly disguised as a musical! Yacht Rock\, the Musical will make its world premiere at ROH this summer and features more than 30 of the greatest songs from that iconic age of smooth grooves and elite musicianship mid '70s to mid '80s. Join Captain Harold Foggybottom and his hilarious friends on board the Diamond Girl for a nostalgic Love Boat cruise that will keep audiences singing and dancing all night long! Pi a coladas\, beach balls\, a limbo bar\, a fully stocked bar\, and an intermission dance party! What could possibly go wrong?
X-ALT-DESC;FMTTYPE=text/html:<span style="font-size:16px\;">A party cleverly disguised as a musical! Yacht Rock\, the Musical will make its world premiere at ROH this summer and features more than 30 of the greatest songs from that iconic age of smooth grooves and elite musicianship mid &rsquo\;70s to mid &rsquo\;80s. Join Captain Harold Foggybottom and his hilarious friends on board the Diamond Girl for a nostalgic Love Boat cruise that will keep audiences singing and dancing all night long! Pi&ntilde\;a coladas\, beach balls\, a limbo bar\, a fully stocked bar\, and an intermission dance party! What could possibly go wrong?</span>
LOCATION:The Rochester Opera House\, 31 Wakefield Street\, Rochester\, NH 03867
UID:e.1938.10585
SEQUENCE:3
DTSTAMP:20260423T235247Z
URL:https://business.rochesternh.org/events/details/yacht-rock-the-musical-10585
END:VEVENT

END:VCALENDAR
