BEGIN:VCALENDAR
VERSION:2.0
PRODID:-//ChamberMaster//Event Calendar 2.0//EN
METHOD:PUBLISH
X-PUBLISHED-TTL:P3D
REFRESH-INTERVAL:P3D
CALSCALE:GREGORIAN
BEGIN:VEVENT
DTSTART:20260329T130000Z
DTEND:20260331T200000Z
X-MICROSOFT-CDO-ALLDAYEVENT:FALSE
SUMMARY:Vermont / New Hampshire Gift & Souvenir Show
DESCRIPTION:Stock Your Shop at the 2026 VT/NH Gift & Souvenir Show!\n\nAttention local retailers: The region's longest continually running trade show returns to the Fireside Inn in West Lebanon\, NH\, from March 29th - March 31st. Organized by local New England reps for local New England shops\, this is the premier event to source heritage apparel\, custom regional souvenirs\, handmade flavors\, and specialty gifts for the upcoming season. Enjoy free parking\, complimentary coffee\, and a relaxed\, wholesale-only environment.\n\n\n\nPre-register for your free buyer badge today at: https://tinyurl.com/VTNH2026
X-ALT-DESC;FMTTYPE=text/html:Stock Your Shop at the 2026 VT/NH Gift &amp\; Souvenir Show!<br />\nAttention local retailers: The region&rsquo\;s longest continually running trade show returns to the Fireside Inn in West Lebanon\, NH\, from March 29th - March 31st. Organized by local New England reps for local New England shops\, this is the premier event to source heritage apparel\, custom regional souvenirs\, handmade flavors\, and specialty gifts for the upcoming season. Enjoy free parking\, complimentary coffee\, and a relaxed\, wholesale-only environment.<br />\n<br />\nPre-register for your free buyer badge today at: https://tinyurl.com/VTNH2026
LOCATION:Fireside Inn in West Lebanon\, NH
UID:e.1938.10509
SEQUENCE:3
DTSTAMP:20260422T101413Z
URL:https://business.rochesternh.org/events/details/vermont-new-hampshire-gift-souvenir-show-10509
END:VEVENT

END:VCALENDAR
