BEGIN:VCALENDAR
VERSION:2.0
PRODID:-//ChamberMaster//Event Calendar 2.0//EN
METHOD:PUBLISH
X-PUBLISHED-TTL:P3D
REFRESH-INTERVAL:P3D
CALSCALE:GREGORIAN
BEGIN:VEVENT
DTSTART:20260331T080000Z
DTEND:20260331T120000Z
X-MICROSOFT-CDO-ALLDAYEVENT:FALSE
SUMMARY:Rochester Performance & Arts Center to Host Moose Mountains Regional Greenways Fundraiser
DESCRIPTION:Rochester\, NH   When we protect our land\, we protect our future.\n\nRochester Performance & Arts Center (RPAC) is proud to host the Moose Mountains Regional Greenways (MMRG) Fundraiser\, bringing together community members\, business leaders\, and conservation advocates for an evening dedicated to preserving the natural landscapes that define our region.\n\nThe event will feature a special screening of The American Southwest\, a visually stunning\, family-friendly wildlife film that explores the beauty of the Colorado River and the importance of thoughtful environmental stewardship. The screening serves as a powerful reminder of why conservation efforts matter   not just in distant landscapes\, but here at home.\n\nMMRG serves nine New Hampshire communities   Brookfield\, Farmington\, Middleton\, Milton\, New Durham\, Ossipee\, Tuftonboro\, Wakefield\, and Wolfeboro   by conserving land\, supporting municipalities with technical expertise\, providing educational programming\, and strengthening regional collaboration around natural resource protection.\n\nLand conservation strengthens quality of life\, supports outdoor recreation and tourism\, preserves working lands\, and ensures future generations inherit the natural beauty we cherish today.\n\nIf protecting open spaces\, wildlife habitats\, and community character is important to you   personally or professionally   this is an opportunity to engage\, support meaningful local work\, and be part of a lasting impact.\n\nThe evening will conclude with a panel discussion\, offering attendees the opportunity to reflect and participate in a thoughtful community conversation. Refreshments will be available.
X-ALT-DESC;FMTTYPE=text/html:<p>Rochester\, NH &mdash\; When we protect our land\, we protect our future.</p>\n\n<p>Rochester Performance &amp\; Arts Center (RPAC) is proud to host the Moose Mountains Regional Greenways (MMRG) Fundraiser\, bringing together community members\, business leaders\, and conservation advocates for an evening dedicated to preserving the natural landscapes that define our region.</p>\n\n<p>The event will feature a special screening of <em>The American Southwest</em>\, a visually stunning\, family-friendly wildlife film that explores the beauty of the Colorado River and the importance of thoughtful environmental stewardship. The screening serves as a powerful reminder of why conservation efforts matter &mdash\; not just in distant landscapes\, but here at home.</p>\n\n<p>MMRG serves nine New Hampshire communities &mdash\; Brookfield\, Farmington\, Middleton\, Milton\, New Durham\, Ossipee\, Tuftonboro\, Wakefield\, and Wolfeboro &mdash\; by conserving land\, supporting municipalities with technical expertise\, providing educational programming\, and strengthening regional collaboration around natural resource protection.</p>\n\n<p>Land conservation strengthens quality of life\, supports outdoor recreation and tourism\, preserves working lands\, and ensures future generations inherit the natural beauty we cherish today.</p>\n\n<p>If protecting open spaces\, wildlife habitats\, and community character is important to you &mdash\; personally or professionally &mdash\; this is an opportunity to engage\, support meaningful local work\, and be part of a lasting impact.</p>\n\n<p>The evening will conclude with a panel discussion\, offering attendees the opportunity to reflect and participate in a thoughtful community conversation. Refreshments will be available.</p>\n
LOCATION:RPAC 32 N. Main Street Rochester NH
UID:e.1938.10530
SEQUENCE:3
DTSTAMP:20260422T114330Z
URL:https://business.rochesternh.org/events/details/rochester-performance-arts-center-to-host-moose-mountains-regional-greenways-fundraiser-10530
END:VEVENT

END:VCALENDAR
