BEGIN:VCALENDAR
VERSION:2.0
PRODID:-//ChamberMaster//Event Calendar 2.0//EN
METHOD:PUBLISH
X-PUBLISHED-TTL:P3D
REFRESH-INTERVAL:P3D
CALSCALE:GREGORIAN
BEGIN:VEVENT
DTSTART:20220115T000000Z
DTEND:20220115T030000Z
X-MICROSOFT-CDO-ALLDAYEVENT:FALSE
SUMMARY:MATTY & THE PENDERS
DESCRIPTION:The Ballroom here at the Governor's Inn has been converted into a concert space and on Thursday Nights we will be alternating Karaoke & Trivia!
X-ALT-DESC;FMTTYPE=text/html:The Ballroom here at the Governor&#39\;s Inn has been converted into a concert space and on Thursday Nights we will be alternating Karaoke &amp\; Trivia!
LOCATION:The Governor's Inn 73 Wakefield St Rochester\, NH
UID:e.1938.7986
SEQUENCE:3
DTSTAMP:20260421T174830Z
URL:https://business.rochesternh.org/events/details/matty-the-penders-01-14-2022-7986
END:VEVENT

END:VCALENDAR
