BEGIN:VCALENDAR
VERSION:2.0
PRODID:-//ChamberMaster//Event Calendar 2.0//EN
METHOD:PUBLISH
X-PUBLISHED-TTL:P3D
REFRESH-INTERVAL:P3D
CALSCALE:GREGORIAN
BEGIN:VEVENT
DTSTART;VALUE=DATE:20260303
DTEND;VALUE=DATE:20260304
TRANSP:TRANSPARENT
X-MICROSOFT-CDO-ALLDAYEVENT:TRUE
SUMMARY:Fiesta Fundraiser supporting the Lamprey River Elementary School
DESCRIPTION:Join us at Cinco's Cantina for a Fiesta Fundraiser supporting the Lamprey River Elementary School PTO. Dine in or take out\, and a portion of the evening's sales will be donated directly to the PTO to support school programs\, enrichment opportunities\, and student success.\n\nCustomers can participate simply by dining in or ordering takeout from any of Cinco's Cantina locations on fundraiser nights. When you mention you are supporting the Fiesta Fundraiser\, 20% of your order will be donated back to the nonprofit featured for the evening. \n\nCome enjoy great food\, give back\, and help strengthen our local school community.
X-ALT-DESC;FMTTYPE=text/html:<div>\n<div>\n<p>Join us at Cinco&rsquo\;s Cantina for a Fiesta Fundraiser supporting the Lamprey River Elementary School PTO. Dine in or take out\, and a portion of the evening&rsquo\;s sales will be donated directly to the PTO to support school programs\, enrichment opportunities\, and student success.</p>\n\n<p>Customers can participate simply by dining in or ordering takeout from any of Cinco&rsquo\;s Cantina locations on fundraiser nights. When you mention you are supporting the Fiesta Fundraiser\, 20% of your order will be donated back to the nonprofit featured for the evening.&nbsp\;</p>\n\n<p>Come enjoy great food\, give back\, and help strengthen our local school community.</p>\n</div>\n</div>\n\n<div>\n<div>\n<div style="margin-right:24px">&nbsp\;</div>\n</div>\n</div>\n
LOCATION:
UID:e.1938.10511
SEQUENCE:3
DTSTAMP:20260422T101141Z
URL:https://business.rochesternh.org/events/details/fiesta-fundraiser-supporting-the-lamprey-river-elementary-school-10511
END:VEVENT

END:VCALENDAR
