BEGIN:VCALENDAR
VERSION:2.0
PRODID:-//ChamberMaster//Event Calendar 2.0//EN
METHOD:PUBLISH
X-PUBLISHED-TTL:P3D
REFRESH-INTERVAL:P3D
CALSCALE:GREGORIAN
BEGIN:VEVENT
DTSTART;VALUE=DATE:20260331
DTEND;VALUE=DATE:20260401
TRANSP:TRANSPARENT
X-MICROSOFT-CDO-ALLDAYEVENT:TRUE
SUMMARY:Fiesta Fundraiser for Roger Allen Rocket Baseball
DESCRIPTION:Cinco's Cantina is proud to support local youth athletics with a Fiesta Fundraiser for the Roger Allen Rocket Baseball team! Join us as we raise funds to help send the 2026 Roger Allen Rockets on an unforgettable journey to Cooperstown Dreams Park   a once-in-a-lifetime baseball experience.\n\nThis amazing group of 12-year-old boys and girls will proudly represent Rochester next summer\, and your support helps make their dream a reality.\n\nCustomers can participate simply by dining in or ordering takeout from any of Cinco's Cantina locations on fundraiser nights. When you mention you are supporting the Fiesta Fundraiser\, 20% of your order will be donated back to the Roger Allen Rocket Baseball team.
X-ALT-DESC;FMTTYPE=text/html:<div>\n<div>\n<div>\n<div>\n<div>\n<div>\n<div>\n<div>\n<div>\n<div>\n<p>Cinco&rsquo\;s Cantina is proud to support local youth athletics with a Fiesta Fundraiser for the Roger Allen Rocket Baseball team! Join us as we raise funds to help send the 2026 Roger Allen Rockets on an unforgettable journey to&nbsp\;Cooperstown Dreams Park&nbsp\;&mdash\; a once-in-a-lifetime baseball experience.</p>\n\n<p>This amazing group of 12-year-old boys and girls will proudly represent&nbsp\;Rochester&nbsp\;next summer\, and your support helps make their dream a reality.</p>\n\n<p>Customers can participate simply by dining in or ordering takeout from any of Cinco&rsquo\;s Cantina locations on fundraiser nights. When you mention you are supporting the Fiesta Fundraiser\, 20% of your order will be donated back to the Roger Allen Rocket Baseball team.&nbsp\;</p>\n</div>\n</div>\n</div>\n</div>\n</div>\n</div>\n</div>\n</div>\n</div>\n</div>\n\n<div>\n<div>\n<div style="margin-right:24px">&nbsp\;</div>\n</div>\n</div>\n
LOCATION:
UID:e.1938.10515
SEQUENCE:3
DTSTAMP:20260424T093139Z
URL:https://business.rochesternh.org/events/details/fiesta-fundraiser-for-roger-allen-rocket-baseball-10515
END:VEVENT

END:VCALENDAR
