BEGIN:VCALENDAR
VERSION:2.0
PRODID:-//ChamberMaster//Event Calendar 2.0//EN
METHOD:PUBLISH
X-PUBLISHED-TTL:P3D
REFRESH-INTERVAL:P3D
CALSCALE:GREGORIAN
BEGIN:VEVENT
DTSTART;VALUE=DATE:20260309
DTEND;VALUE=DATE:20260310
TRANSP:TRANSPARENT
X-MICROSOFT-CDO-ALLDAYEVENT:TRUE
SUMMARY:CALL FOR MAKERS – New Hampshire Maker Fest (Applications Due May 18th)
DESCRIPTION:Join us at the 14th annual New Hampshire Maker Fest\, an all-ages celebration of creativity and innovation taking place in and around the Children's Museum of New Hampshire in downtown Dover\, NH\, on Saturday\, June 6 from 10am 3pm. If you are an engineer\, a scientist\, a baker\, a tinkerer\, a hobbyist\, or an artisan\, we want to see what you do! Makers must offer a demonstration\, free make-and-take activity\, or some kind of interactive experience. Sign up to be a Maker presenter\, performer\, sponsor\, to give a workshop\, or to sell your creations. Visit https://childrens-museum.org/programs/nh-maker-fest/  to learn more or to register.
X-ALT-DESC;FMTTYPE=text/html:<p><span style="background-color:transparent\; font-family:arial\,sans-serif\; font-size:12pt">Join us at the 14</span><span style="background-color:transparent\; font-family:arial\,sans-serif\; font-size:12pt"><span style="font-size:0.6em">th</span></span><span style="background-color:transparent\; font-family:arial\,sans-serif\; font-size:12pt"> annual New Hampshire Maker Fest\, an all-ages celebration of creativity and innovation taking place in and around the Children&rsquo\;s Museum of New Hampshire in downtown Dover\, NH\, on Saturday\, June 6 from 10am&ndash\;3pm. If you are an engineer\, a scientist\, a baker\, a tinkerer\, a hobbyist\, or an artisan\, we want to see what you do! Makers must offer a demonstration\, free make-and-take activity\, or some kind of interactive experience. Sign up to be a Maker presenter\, performer\, sponsor\, to give a workshop\, or to sell your creations. Visit</span><a href="http://www.childrens-museum.org" style="text-decoration-line: none\;"><span style="background-color:transparent\; color:rgb(51\, 51\, 51)\; font-family:arial\,sans-serif\; font-size:12pt"> </span></a><a href="https://childrens-museum.org/programs/nh-maker-fest/" style="text-decoration-line: none\;"><span style="background-color:transparent\; color:rgb(17\, 85\, 204)\; font-family:arial\,sans-serif\; font-size:12pt">https://childrens-museum.org/programs/nh-maker-fest/</span></a><span style="background-color:transparent\; font-family:arial\,sans-serif\; font-size:12pt">&nbsp\; to learn more or to register.</span></p>\n\n<div>&nbsp\;</div>\n
LOCATION:The Children's Museum of New Hampshire 6 Washington Street Dover\, NH 03820
UID:e.1938.10536
SEQUENCE:3
DTSTAMP:20260422T125155Z
URL:https://business.rochesternh.org/events/details/call-for-makers-new-hampshire-maker-fest-applications-due-may-18th-10536
END:VEVENT

END:VCALENDAR
