BEGIN:VCALENDAR
VERSION:2.0
PRODID:-//ChamberMaster//Event Calendar 2.0//EN
METHOD:PUBLISH
X-PUBLISHED-TTL:P3D
REFRESH-INTERVAL:P3D
CALSCALE:GREGORIAN
BEGIN:VEVENT
DTSTART:20260605T040000Z
DTEND:20260605T160000Z
X-MICROSOFT-CDO-ALLDAYEVENT:FALSE
SUMMARY:Be the “First-To-Climb” Our Luckey Climber\, an exciting new exhibit being installed in the fall of 2026! (Through 8/28/26)
DESCRIPTION:Get tickets now for this "First-to-Climb Party" Raffle Fundraiser\, happening now through Friday\, August 28\, 2026 at noon! You could win a chance to win a private two-hour Museum rental for your group to be the first to experience the Climber in the Fall of 2026 (date TBD). Includes Museum admission for up to 60 people\, a special craft\, party favors\, and Museum staff to help facilitate your event. (Value: $1\,000) Tickets are $20 each or 3 for $50 with all proceeds going towards the purchase of the custom-designed Climber! https://childrens-museum.org/programs/first-to-climb-party-raffle-fundraiser/
X-ALT-DESC;FMTTYPE=text/html:<p><span style="font-family:arial\,sans-serif\; font-size:12pt">Get tickets now for this &ldquo\;First-to-Climb Party&rdquo\; Raffle Fundraiser\, happening now through Friday\, August 28\, 2026 at noon! You could win a chance to win a private two-hour Museum rental for your group to be the first to experience the Climber in the Fall of 2026 (date TBD). Includes Museum admission for up to 60 people\, a special craft\, party favors\, and Museum staff to help facilitate your event. (Value: $1\,000) Tickets are $20 each or 3 for $50 with all proceeds going towards the purchase of the custom-designed Climber! </span><a href="https://childrens-museum.org/programs/first-to-climb-party-raffle-fundraiser/" style="text-decoration-line: none\;"><span style="color:rgb(17\, 85\, 204)\; font-family:arial\,sans-serif\; font-size:12pt">https://childrens-museum.org/programs/first-to-climb-party-raffle-fundraiser/</span></a><span style="font-family:arial\,sans-serif\; font-size:12pt">&nbsp\;</span></p>\n<br />\n&nbsp\;
LOCATION:The Children's Museum of New Hampshire 6 Washington Street Dover\, NH 03820
UID:e.1938.10539
SEQUENCE:3
DTSTAMP:20260422T114954Z
URL:https://business.rochesternh.org/events/details/be-the-first-to-climb-our-luckey-climber-an-exciting-new-exhibit-being-installed-in-the-fall-of-2026-through-8-28-26-06-05-2026-10539
END:VEVENT

END:VCALENDAR
