BEGIN:VCALENDAR
VERSION:2.0
PRODID:-//ChamberMaster//Event Calendar 2.0//EN
METHOD:PUBLISH
X-PUBLISHED-TTL:P3D
REFRESH-INTERVAL:P3D
CALSCALE:GREGORIAN
BEGIN:VEVENT
DTSTART:20260516T190000Z
DTEND:20260517T020000Z
X-MICROSOFT-CDO-ALLDAYEVENT:FALSE
SUMMARY:Open Air Music Fundraiser - Disabled American Veterans of NH
DESCRIPTION:Back In My Day Entertainment Presents:\n\nOpen Air Music Fundraiser for the Disabled American Veterans of NH\n\n\n\nSupport the Disabled American Veterans (DAV) of NH at their upcoming Open Air Music Fundraiser! This highly anticipated event will be taking place on Saturday\, May 16th\, 2026 at The Garage at The Governors Inn.\n\n\n\nMusic will begin promptly at 3pm and will include well known headliner\, Matty & The Penders\, along with Sam Vlasich\, Mimicking Mars\, and Curmudjun. \n\n\n\nAdmission - $10\n\nA great event for a great cause\, bring your friends!
X-ALT-DESC;FMTTYPE=text/html:<span style="font-size:16px\;"><span style="font-size:14px\;">Back In My Day Entertainment Presents:</span><br />\n<strong>Open Air Music Fundraiser for the Disabled American Veterans of NH</strong></span><br />\n<br />\n<span style="font-size:14px\;">Support the Disabled American Veterans (DAV) of NH at their upcoming Open Air Music Fundraiser! This highly anticipated event will be taking place on Saturday\, May 16th\, 2026 at The Garage at The Governors Inn.<br />\n<br />\nMusic will begin promptly at 3pm and will include well known headliner\, Matty &amp\; The Penders\, along with Sam Vlasich\, Mimicking Mars\, and Curmudjun.&nbsp\;<br />\n<br />\nAdmission - $10</span><br />\nA great event for a great cause\, bring your friends!&nbsp\;
LOCATION:The Garage at The Governors Inn 78 Wakefield St\, Rochester\, NH 03867
UID:e.1938.10454
SEQUENCE:3
DTSTAMP:20260425T225039Z
URL:http://business.rochesternh.org/events/details/open-air-music-fundraiser-disabled-american-veterans-of-nh-10454
END:VEVENT

END:VCALENDAR
